BEGIN:VCALENDAR
VERSION:2.0
PRODID:-//RECYCLING magazin - ECPv6.15.20//NONSGML v1.0//EN
CALSCALE:GREGORIAN
METHOD:PUBLISH
X-WR-CALNAME:RECYCLING magazin
X-ORIGINAL-URL:https://www.recyclingmagazin.de
X-WR-CALDESC:Veranstaltungen für RECYCLING magazin
REFRESH-INTERVAL;VALUE=DURATION:PT1H
X-Robots-Tag:noindex
X-PUBLISHED-TTL:PT1H
BEGIN:VTIMEZONE
TZID:Europe/Berlin
BEGIN:DAYLIGHT
TZOFFSETFROM:+0100
TZOFFSETTO:+0200
TZNAME:CEST
DTSTART:20180325T010000
END:DAYLIGHT
BEGIN:STANDARD
TZOFFSETFROM:+0200
TZOFFSETTO:+0100
TZNAME:CET
DTSTART:20181028T010000
END:STANDARD
BEGIN:DAYLIGHT
TZOFFSETFROM:+0100
TZOFFSETTO:+0200
TZNAME:CEST
DTSTART:20190331T010000
END:DAYLIGHT
BEGIN:STANDARD
TZOFFSETFROM:+0200
TZOFFSETTO:+0100
TZNAME:CET
DTSTART:20191027T010000
END:STANDARD
BEGIN:DAYLIGHT
TZOFFSETFROM:+0100
TZOFFSETTO:+0200
TZNAME:CEST
DTSTART:20200329T010000
END:DAYLIGHT
BEGIN:STANDARD
TZOFFSETFROM:+0200
TZOFFSETTO:+0100
TZNAME:CET
DTSTART:20201025T010000
END:STANDARD
END:VTIMEZONE
BEGIN:VEVENT
DTSTART;VALUE=DATE:20190117
DTEND;VALUE=DATE:20190118
DTSTAMP:20260424T075105
CREATED:20181207T154047Z
LAST-MODIFIED:20181207T154047Z
UID:367350-1547683200-1547769599@www.recyclingmagazin.de
SUMMARY:Abfallrecht für Re-Use-Betriebe
DESCRIPTION:(Sozialwirtschaftliche) Re-Use-Betriebe haben in Österreich in der Regel (mit wenigen Ausnahmen) abfallrechtliche Verpflichtungen zu erfüllen\, denn in sehr vielen Fällen stellen die Sammlung bzw. Entgegennahme\, das Handling und der Verkauf von gebrauchten Gütern eine „Vorbereitung zur Wiederverwendung“ im abfallrechtlichen Sinn dar\, oft auch dann\, wenn es sich um gespendete Gegenstände handelt. Erstmals bietet RepaNet nun dazu eine eigene Weiterbildung an\, die auf die sehr spezielle Situation von Re-Use-Betrieben eingeht. \nDieses Seminar richtet sich an MitarbeiterInnen in Betrieben bzw. Organisationen\, die z.B. Alttextilien und Schuhe\, Möbel\, Hausrat\, Bücher\, Spielzeug\, Elektro(alt-) Geräte in Containern\, durch Entrümpelungsdienstleistungen\, Hausabholungen\, eigene Sammelstellen und von kommunalen Altstoffsammelzentren oder über andere Kanäle sammeln und als Gebrauchtprodukte in eigenen Geschäften oder im Großhandel verkaufen\, sowie an Upcycling- bzw. Redesign-Betriebe. \nZiel ist es\, den TeilnehmerInnen eine grundlegende Kenntnis der für sie relevanten Aspekte des Abfallrechts zu vermitteln und aufzuzeigen welche Verpflichtungen Re-Use-Betriebe konkret treffen. Leitende Personen erfahren\, welche Vorgaben sie einzuhalten haben\, wenn sie innerhalb des Abfallregimes wirtschaften. Organisationen\, die bereits über die entsprechenden Genehmigungen verfügen\, können das Seminar nutzen\, um weitere MitarbeiterInnen in die Materie einzuführen. Das Zusammenkommen von PraktikerInnen kann darüber hinaus zum Erfahrungsaustausch genutzt werden. \nMit Gerhard Novak (Stadt Wien\, MA22)\, Dr. Christoph Faiman (Amt der NÖ. Landesreg.\, Abt. Umwelt- und Energierecht) und DI Dr. Michael Pollak (wpa Beratende Ingenieure) konnten wir drei profunde Experten aus Vollzugsbehörden und Abfallwirtschafts-Consulting als Vortragende gewinnen.
URL:https://www.recyclingmagazin.de/event/abfallrecht-fuer-re-use-betriebe/
LOCATION:Social Club des Michl’s (Michl’s Café Restaurant)\, Reichsratsstraße 11\, Wien\, 1010\, Österreich
CATEGORIES:Seminar
END:VEVENT
END:VCALENDAR