BEGIN:VCALENDAR
VERSION:2.0
PRODID:-//RECYCLING magazin - ECPv6.15.20//NONSGML v1.0//EN
CALSCALE:GREGORIAN
METHOD:PUBLISH
X-WR-CALNAME:RECYCLING magazin
X-ORIGINAL-URL:https://www.recyclingmagazin.de
X-WR-CALDESC:Veranstaltungen für RECYCLING magazin
REFRESH-INTERVAL;VALUE=DURATION:PT1H
X-Robots-Tag:noindex
X-PUBLISHED-TTL:PT1H
BEGIN:VTIMEZONE
TZID:Europe/Berlin
BEGIN:DAYLIGHT
TZOFFSETFROM:+0100
TZOFFSETTO:+0200
TZNAME:CEST
DTSTART:20170326T010000
END:DAYLIGHT
BEGIN:STANDARD
TZOFFSETFROM:+0200
TZOFFSETTO:+0100
TZNAME:CET
DTSTART:20171029T010000
END:STANDARD
BEGIN:DAYLIGHT
TZOFFSETFROM:+0100
TZOFFSETTO:+0200
TZNAME:CEST
DTSTART:20180325T010000
END:DAYLIGHT
BEGIN:STANDARD
TZOFFSETFROM:+0200
TZOFFSETTO:+0100
TZNAME:CET
DTSTART:20181028T010000
END:STANDARD
BEGIN:DAYLIGHT
TZOFFSETFROM:+0100
TZOFFSETTO:+0200
TZNAME:CEST
DTSTART:20190331T010000
END:DAYLIGHT
BEGIN:STANDARD
TZOFFSETFROM:+0200
TZOFFSETTO:+0100
TZNAME:CET
DTSTART:20191027T010000
END:STANDARD
END:VTIMEZONE
BEGIN:VEVENT
DTSTART;VALUE=DATE:20180906
DTEND;VALUE=DATE:20180907
DTSTAMP:20260425T211640
CREATED:20171212T155457Z
LAST-MODIFIED:20171212T155457Z
UID:360791-1536192000-1536278399@www.recyclingmagazin.de
SUMMARY:Abfallnachweisführung und -bestimmung
DESCRIPTION:Neben den Grundlagen des Abfallrechts wird besonders die Vorgehensweise bei der Deklaration von Abfällen besprochen. Hauptthema dieses Seminars ist die Nachweisverordnung und deren Umsetzung in die Praxis. Ziel des Seminars ist es\, dass die Teilnehmer neben den rechtlichen Rahmenbedingungen die praxisrelevanten Auswirkungen anhand von Erläuterungen und praktischen Übungen kennenlernen. Das Seminar informiert über die theoretischen Anforderungen und die praktischen Auswirkungen sowie über den elektronischen Datenaustausch. Außerdem werden fundierte Kenntnisse über aktuelle Vollzugshilfen zur Abfallbestimmung vermittelt.
URL:https://www.recyclingmagazin.de/event/abfallnachweisfuehrung-und-bestimmung-2/
LOCATION:bvse-Bildungszentrum\, Hohe Straße 73\, Bonn\, 53119
CATEGORIES:Seminar
ORGANIZER;CN="bvse-recyconsult":MAILTO:info@bvse.de
END:VEVENT
END:VCALENDAR