BEGIN:VCALENDAR
VERSION:2.0
PRODID:-//RECYCLING magazin - ECPv6.15.20//NONSGML v1.0//EN
CALSCALE:GREGORIAN
METHOD:PUBLISH
X-WR-CALNAME:RECYCLING magazin
X-ORIGINAL-URL:https://www.recyclingmagazin.de
X-WR-CALDESC:Veranstaltungen für RECYCLING magazin
REFRESH-INTERVAL;VALUE=DURATION:PT1H
X-Robots-Tag:noindex
X-PUBLISHED-TTL:PT1H
BEGIN:VTIMEZONE
TZID:Europe/Berlin
BEGIN:DAYLIGHT
TZOFFSETFROM:+0100
TZOFFSETTO:+0200
TZNAME:CEST
DTSTART:20160327T010000
END:DAYLIGHT
BEGIN:STANDARD
TZOFFSETFROM:+0200
TZOFFSETTO:+0100
TZNAME:CET
DTSTART:20161030T010000
END:STANDARD
BEGIN:DAYLIGHT
TZOFFSETFROM:+0100
TZOFFSETTO:+0200
TZNAME:CEST
DTSTART:20170326T010000
END:DAYLIGHT
BEGIN:STANDARD
TZOFFSETFROM:+0200
TZOFFSETTO:+0100
TZNAME:CET
DTSTART:20171029T010000
END:STANDARD
BEGIN:DAYLIGHT
TZOFFSETFROM:+0100
TZOFFSETTO:+0200
TZNAME:CEST
DTSTART:20180325T010000
END:DAYLIGHT
BEGIN:STANDARD
TZOFFSETFROM:+0200
TZOFFSETTO:+0100
TZNAME:CET
DTSTART:20181028T010000
END:STANDARD
END:VTIMEZONE
BEGIN:VEVENT
DTSTART;VALUE=DATE:20170603
DTEND;VALUE=DATE:20170609
DTSTAMP:20260420T013340
CREATED:20170510T125617Z
LAST-MODIFIED:20170510T125617Z
UID:356553-1496448000-1496966399@www.recyclingmagazin.de
SUMMARY:9th International Freiberg Conference on IGCC & XtL Technologies
DESCRIPTION:This event\, jointly organized by the Institute of Energy Process Engineering and Chemical Engineering (IEC) at the TU Bergakademie Freiberg (Freiberg\, Germany) and the IEA Clean Coal Centre (London\, UK) will focus on issues associated with closing the carbon cycle and the role of coal in a circular economy.
URL:https://www.recyclingmagazin.de/event/9th-international-freiberg-conference-on-igcc-xtl-technologies/
LOCATION:InterContinental Berlin\, Budapester Str. 2\, Berlin\, 10787 \, Deutschland
CATEGORIES:Konferenz
ORGANIZER;CN="TU Bergakademie Freiberg":MAILTO:gasification@iec.tu-freiberg.de
END:VEVENT
END:VCALENDAR