BEGIN:VCALENDAR
VERSION:2.0
PRODID:-//RECYCLING magazin - ECPv6.15.20//NONSGML v1.0//EN
CALSCALE:GREGORIAN
METHOD:PUBLISH
X-WR-CALNAME:RECYCLING magazin
X-ORIGINAL-URL:https://www.recyclingmagazin.de
X-WR-CALDESC:Veranstaltungen für RECYCLING magazin
REFRESH-INTERVAL;VALUE=DURATION:PT1H
X-Robots-Tag:noindex
X-PUBLISHED-TTL:PT1H
BEGIN:VTIMEZONE
TZID:Europe/Berlin
BEGIN:DAYLIGHT
TZOFFSETFROM:+0100
TZOFFSETTO:+0200
TZNAME:CEST
DTSTART:20170326T010000
END:DAYLIGHT
BEGIN:STANDARD
TZOFFSETFROM:+0200
TZOFFSETTO:+0100
TZNAME:CET
DTSTART:20171029T010000
END:STANDARD
BEGIN:DAYLIGHT
TZOFFSETFROM:+0100
TZOFFSETTO:+0200
TZNAME:CEST
DTSTART:20180325T010000
END:DAYLIGHT
BEGIN:STANDARD
TZOFFSETFROM:+0200
TZOFFSETTO:+0100
TZNAME:CET
DTSTART:20181028T010000
END:STANDARD
BEGIN:DAYLIGHT
TZOFFSETFROM:+0100
TZOFFSETTO:+0200
TZNAME:CEST
DTSTART:20190331T010000
END:DAYLIGHT
BEGIN:STANDARD
TZOFFSETFROM:+0200
TZOFFSETTO:+0100
TZNAME:CET
DTSTART:20191027T010000
END:STANDARD
END:VTIMEZONE
BEGIN:VEVENT
DTSTART;VALUE=DATE:20180606
DTEND;VALUE=DATE:20180609
DTSTAMP:20260424T121623
CREATED:20180410T121649Z
LAST-MODIFIED:20180410T121649Z
UID:363174-1528243200-1528502399@www.recyclingmagazin.de
SUMMARY:69. BHT - Freiberger Universitätsforum mit dem Rahmenthema "Future Materials - Safe Resources Supply - Circular Economy"
DESCRIPTION:Die TU Bergakademie Freiberg richtet jährlich den BHT – Freiberger Universitätsforum aus\, eine Forschungskonferenz bei der nationale und internationale Teilnehmer aus Wissenschaft\, Wirtschaft und Politik über die jüngsten Ergebnisse aus Forschung und Entwicklung diskutieren. \nVom 6. bis 8. Juni 2018 findet der mittlerweile 69. BHT – Freiberger Universitätsforum mit dem Rahmenthema „Future Materials – Safe Resources Supply – Circular Economy“ statt. Die diesjährigen 13 Fachkolloquien widmen sich dem Thema der Entwicklung innovativer und zukunftsfähiger Werkstoffe\, neuer Technologien und effizienter Recyclingverfahren zur Ausgestaltung einer kreislauforientierten Wirtschaftsweise.
URL:https://www.recyclingmagazin.de/event/69-bht-freiberger-universitaetsforum-mit-dem-rahmenthema-future-materials-safe-resources-supply-circular-economy/
LOCATION:TU Bergakademie Freiberg\, Graduierten- und Forschungsakademie\, Prüferstr. 2\, Freiberg\, 09599\, Deutschland
CATEGORIES:Tagung
ORGANIZER;CN="TU Bergakademie Freiberg":MAILTO:gasification@iec.tu-freiberg.de
END:VEVENT
END:VCALENDAR