BEGIN:VCALENDAR
VERSION:2.0
PRODID:-//RECYCLING magazin - ECPv6.15.20//NONSGML v1.0//EN
CALSCALE:GREGORIAN
METHOD:PUBLISH
X-WR-CALNAME:RECYCLING magazin
X-ORIGINAL-URL:https://www.recyclingmagazin.de
X-WR-CALDESC:Veranstaltungen für RECYCLING magazin
REFRESH-INTERVAL;VALUE=DURATION:PT1H
X-Robots-Tag:noindex
X-PUBLISHED-TTL:PT1H
BEGIN:VTIMEZONE
TZID:Europe/Berlin
BEGIN:DAYLIGHT
TZOFFSETFROM:+0100
TZOFFSETTO:+0200
TZNAME:CEST
DTSTART:20160327T010000
END:DAYLIGHT
BEGIN:STANDARD
TZOFFSETFROM:+0200
TZOFFSETTO:+0100
TZNAME:CET
DTSTART:20161030T010000
END:STANDARD
BEGIN:DAYLIGHT
TZOFFSETFROM:+0100
TZOFFSETTO:+0200
TZNAME:CEST
DTSTART:20170326T010000
END:DAYLIGHT
BEGIN:STANDARD
TZOFFSETFROM:+0200
TZOFFSETTO:+0100
TZNAME:CET
DTSTART:20171029T010000
END:STANDARD
BEGIN:DAYLIGHT
TZOFFSETFROM:+0100
TZOFFSETTO:+0200
TZNAME:CEST
DTSTART:20180325T010000
END:DAYLIGHT
BEGIN:STANDARD
TZOFFSETFROM:+0200
TZOFFSETTO:+0100
TZNAME:CET
DTSTART:20181028T010000
END:STANDARD
END:VTIMEZONE
BEGIN:VEVENT
DTSTART;VALUE=DATE:20171108
DTEND;VALUE=DATE:20171111
DTSTAMP:20260419T210701
CREATED:20170829T102323Z
LAST-MODIFIED:20170829T102323Z
UID:358742-1510099200-1510358399@www.recyclingmagazin.de
SUMMARY:52. BME-Symposium Einkauf und Logistik
DESCRIPTION:Auch in diesem Jahr erwartet die mehr als 2.000 Teilnehmer des 52. Symposiums Einkauf und Logistik ein umfassendes Veranstaltungsprogramm. Wie der Bundesverband Materialwirtschaft\, Einkauf und Logistik e. V. (BME) am Dienstag in Frankfurt mitteilte\, findet der größte Einkäufergipfel Europas vom 8. bis 10. November 2017 im Berliner Hotel Intercontinental statt. Der Fachkongress steht in diesem Jahr unter dem Motto „Mehrwert: Globale Netzwerke“. Über 100 Referenten geben den Teilnehmern in 15 Fachkonferenzen\, zwölf Morning Specials\, acht Workshops\, fünf Solution Foren\, drei Innovationsforen\, zwei Business Breakfasts und einem Tool Special einen Überblick über die Megatrends in Einkauf\, Supply Chain Management und Logistik. Sie diskutieren\, wie sowohl Großunternehmen als auch mittelständische Betriebe ihre Organisation zukunftsfähig aufstellen und die Potenziale der Digitalisierung voll ausnutzen können.
URL:https://www.recyclingmagazin.de/event/52-bme-symposium-einkauf-und-logistik/
LOCATION:Hotel InterContinental\, Budapester Str. 2\, Berlin\, 10787\, Deutschland
CATEGORIES:Tagung
END:VEVENT
END:VCALENDAR