BEGIN:VCALENDAR
VERSION:2.0
PRODID:-//RECYCLING magazin - ECPv6.15.20//NONSGML v1.0//EN
CALSCALE:GREGORIAN
METHOD:PUBLISH
X-WR-CALNAME:RECYCLING magazin
X-ORIGINAL-URL:https://www.recyclingmagazin.de
X-WR-CALDESC:Veranstaltungen für RECYCLING magazin
REFRESH-INTERVAL;VALUE=DURATION:PT1H
X-Robots-Tag:noindex
X-PUBLISHED-TTL:PT1H
BEGIN:VTIMEZONE
TZID:Europe/Berlin
BEGIN:DAYLIGHT
TZOFFSETFROM:+0100
TZOFFSETTO:+0200
TZNAME:CEST
DTSTART:20170326T010000
END:DAYLIGHT
BEGIN:STANDARD
TZOFFSETFROM:+0200
TZOFFSETTO:+0100
TZNAME:CET
DTSTART:20171029T010000
END:STANDARD
BEGIN:DAYLIGHT
TZOFFSETFROM:+0100
TZOFFSETTO:+0200
TZNAME:CEST
DTSTART:20180325T010000
END:DAYLIGHT
BEGIN:STANDARD
TZOFFSETFROM:+0200
TZOFFSETTO:+0100
TZNAME:CET
DTSTART:20181028T010000
END:STANDARD
BEGIN:DAYLIGHT
TZOFFSETFROM:+0100
TZOFFSETTO:+0200
TZNAME:CEST
DTSTART:20190331T010000
END:DAYLIGHT
BEGIN:STANDARD
TZOFFSETFROM:+0200
TZOFFSETTO:+0100
TZNAME:CET
DTSTART:20191027T010000
END:STANDARD
END:VTIMEZONE
BEGIN:VEVENT
DTSTART;VALUE=DATE:20180124
DTEND;VALUE=DATE:20180126
DTSTAMP:20260420T132224
CREATED:20171113T164416Z
LAST-MODIFIED:20171113T164416Z
UID:360249-1516752000-1516924799@www.recyclingmagazin.de
SUMMARY:5. Fachsymposium R-Beton
DESCRIPTION:Das Ministerium für Umwelt\, Klima und Energiewirtschaft Baden-Württemberg veranstaltet das fünfte Fachsymposium mit optionaler Fachexkursion. \nTermine:\nMittwoch\, 24. Januar 2018 Fachexkursion (separat buchbar)\nDonnerstag\, 25. Januar 2018 Fachsymposium
URL:https://www.recyclingmagazin.de/event/5-fachsymposium-r-beton/
LOCATION:Ministerium für Umwelt\, Klima und Energiewirtschaft Baden-Württemberg\, Willy-Brandt-Straße 41\, Stuttgart\, 70173\, Deutschland
CATEGORIES:Exkursion,Konferenz
END:VEVENT
END:VCALENDAR