BEGIN:VCALENDAR
VERSION:2.0
PRODID:-//RECYCLING magazin - ECPv6.15.20//NONSGML v1.0//EN
CALSCALE:GREGORIAN
METHOD:PUBLISH
X-WR-CALNAME:RECYCLING magazin
X-ORIGINAL-URL:https://www.recyclingmagazin.de
X-WR-CALDESC:Veranstaltungen für RECYCLING magazin
REFRESH-INTERVAL;VALUE=DURATION:PT1H
X-Robots-Tag:noindex
X-PUBLISHED-TTL:PT1H
BEGIN:VTIMEZONE
TZID:Europe/Berlin
BEGIN:DAYLIGHT
TZOFFSETFROM:+0100
TZOFFSETTO:+0200
TZNAME:CEST
DTSTART:20170326T010000
END:DAYLIGHT
BEGIN:STANDARD
TZOFFSETFROM:+0200
TZOFFSETTO:+0100
TZNAME:CET
DTSTART:20171029T010000
END:STANDARD
BEGIN:DAYLIGHT
TZOFFSETFROM:+0100
TZOFFSETTO:+0200
TZNAME:CEST
DTSTART:20180325T010000
END:DAYLIGHT
BEGIN:STANDARD
TZOFFSETFROM:+0200
TZOFFSETTO:+0100
TZNAME:CET
DTSTART:20181028T010000
END:STANDARD
BEGIN:DAYLIGHT
TZOFFSETFROM:+0100
TZOFFSETTO:+0200
TZNAME:CEST
DTSTART:20190331T010000
END:DAYLIGHT
BEGIN:STANDARD
TZOFFSETFROM:+0200
TZOFFSETTO:+0100
TZNAME:CET
DTSTART:20191027T010000
END:STANDARD
END:VTIMEZONE
BEGIN:VEVENT
DTSTART;VALUE=DATE:20180206
DTEND;VALUE=DATE:20180208
DTSTAMP:20260419T192439
CREATED:20171025T133904Z
LAST-MODIFIED:20171025T134006Z
UID:360001-1517875200-1518047999@www.recyclingmagazin.de
SUMMARY:49. Metallurgisches Seminar
DESCRIPTION:Was ist Probenahme? Mit dieser Fragestellung beschäftigt sich die GDMB beim 49. Metallurgischen Seminar am 6. und 7. Februar 2018 in Düsseldorf. \nHinter dem Begriff „Probenahme“ verbirgt sich ein weitverzweigter Komplex an Zielsetzungen\, Problemlösungen\, Techniken und wirtschaftlichen Aspekten. Eine gute Probenahme mit anschließender exakter Analyse kann den Verlauf eines Prozesses garantieren. Sie kann aber auch die Zufriedenheit eines Kunden fördern und seine Treue zum Geschäftspartner sichern. Eine misslungene Probenahme hingegen kann zum schlechten Ruf einer Technik führen und im schlimmsten Fall zum Misserfolg eines Unternehmens. Somit sind die gewonnenen Erkenntnisse aus den zwei Seminartagen direkt übertragbar auf den wirtschaftlichen Erfolg von Unternehmen der relevanten Bereiche.
URL:https://www.recyclingmagazin.de/event/49-metallurgisches-seminar/
CATEGORIES:Seminar
ORGANIZER;CN="GDMB Gesellschaft der Metallurgen und Bergleute e. V.":MAILTO:verein@gdmb.de
END:VEVENT
END:VCALENDAR