BEGIN:VCALENDAR
VERSION:2.0
PRODID:-//RECYCLING magazin - ECPv6.15.20//NONSGML v1.0//EN
CALSCALE:GREGORIAN
METHOD:PUBLISH
X-WR-CALNAME:RECYCLING magazin
X-ORIGINAL-URL:https://www.recyclingmagazin.de
X-WR-CALDESC:Veranstaltungen für RECYCLING magazin
REFRESH-INTERVAL;VALUE=DURATION:PT1H
X-Robots-Tag:noindex
X-PUBLISHED-TTL:PT1H
BEGIN:VTIMEZONE
TZID:Europe/Berlin
BEGIN:DAYLIGHT
TZOFFSETFROM:+0100
TZOFFSETTO:+0200
TZNAME:CEST
DTSTART:20160327T010000
END:DAYLIGHT
BEGIN:STANDARD
TZOFFSETFROM:+0200
TZOFFSETTO:+0100
TZNAME:CET
DTSTART:20161030T010000
END:STANDARD
BEGIN:DAYLIGHT
TZOFFSETFROM:+0100
TZOFFSETTO:+0200
TZNAME:CEST
DTSTART:20170326T010000
END:DAYLIGHT
BEGIN:STANDARD
TZOFFSETFROM:+0200
TZOFFSETTO:+0100
TZNAME:CET
DTSTART:20171029T010000
END:STANDARD
BEGIN:DAYLIGHT
TZOFFSETFROM:+0100
TZOFFSETTO:+0200
TZNAME:CEST
DTSTART:20180325T010000
END:DAYLIGHT
BEGIN:STANDARD
TZOFFSETFROM:+0200
TZOFFSETTO:+0100
TZNAME:CET
DTSTART:20181028T010000
END:STANDARD
END:VTIMEZONE
BEGIN:VEVENT
DTSTART;VALUE=DATE:20170216
DTEND;VALUE=DATE:20170218
DTSTAMP:20260420T174611
CREATED:20170111T135827Z
LAST-MODIFIED:20170111T135849Z
UID:354446-1487203200-1487375999@www.recyclingmagazin.de
SUMMARY:21. Handelsblatt-Jahrestagung - Stahlmarkt 2017: Konsolidierung\, Handelspolitik\, Emissionshandel und Innovationen
DESCRIPTION:Die Umsätze der deutschen Stahlindustrie gehen kontinuierlich zurück: 2015 waren es laut Statistischem Bundesamt noch 37\,8 Milliarden Euro. Kaum eine Branche der Welt steht vor so umbrechenden Veränderungen. Wichtige Trends für die künftigen Entwicklungen diskutieren auf der 21. Handelsblatt-Jahrestagung Stahlmarkt 2017 am 16. und 17. Februar 2017 im Van der Valk Airporthotel Düsseldorf hochrangige Vertreter aus Stahlproduktion\, -handel und -verarbeitung
URL:https://www.recyclingmagazin.de/event/21-handelsblatt-jahrestagung-stahlmarkt-2017-konsolidierung-handelspolitik-emissionshandel-und-innovationen/
LOCATION:Van der Valk Airporthotel Düsseldorf\, Am Hülserhof 57\, Düsseldorf\, 40472\, Deutschland
CATEGORIES:Tagung
END:VEVENT
END:VCALENDAR