BEGIN:VCALENDAR
VERSION:2.0
PRODID:-//RECYCLING magazin - ECPv6.15.20//NONSGML v1.0//EN
CALSCALE:GREGORIAN
METHOD:PUBLISH
X-WR-CALNAME:RECYCLING magazin
X-ORIGINAL-URL:https://www.recyclingmagazin.de
X-WR-CALDESC:Veranstaltungen für RECYCLING magazin
REFRESH-INTERVAL;VALUE=DURATION:PT1H
X-Robots-Tag:noindex
X-PUBLISHED-TTL:PT1H
BEGIN:VTIMEZONE
TZID:Europe/Berlin
BEGIN:DAYLIGHT
TZOFFSETFROM:+0100
TZOFFSETTO:+0200
TZNAME:CEST
DTSTART:20150329T010000
END:DAYLIGHT
BEGIN:STANDARD
TZOFFSETFROM:+0200
TZOFFSETTO:+0100
TZNAME:CET
DTSTART:20151025T010000
END:STANDARD
BEGIN:DAYLIGHT
TZOFFSETFROM:+0100
TZOFFSETTO:+0200
TZNAME:CEST
DTSTART:20160327T010000
END:DAYLIGHT
BEGIN:STANDARD
TZOFFSETFROM:+0200
TZOFFSETTO:+0100
TZNAME:CET
DTSTART:20161030T010000
END:STANDARD
BEGIN:DAYLIGHT
TZOFFSETFROM:+0100
TZOFFSETTO:+0200
TZNAME:CEST
DTSTART:20170326T010000
END:DAYLIGHT
BEGIN:STANDARD
TZOFFSETFROM:+0200
TZOFFSETTO:+0100
TZNAME:CET
DTSTART:20171029T010000
END:STANDARD
END:VTIMEZONE
BEGIN:VEVENT
DTSTART;TZID=Europe/Berlin:20160910T090000
DTEND;TZID=Europe/Berlin:20160910T170000
DTSTAMP:20260419T213123
CREATED:20160630T151232Z
LAST-MODIFIED:20160630T151238Z
UID:351407-1473498000-1473526800@www.recyclingmagazin.de
SUMMARY:2. Tag der Entsorgungs-Logistik
DESCRIPTION:09:00 Uhr Anreise\, Registrierung; Besuch der Fachausstellung\n09:30 Uhr Begrüßung: TÜV NORD Bildung\, WFZruhr\n09:45 Uhr „Der digitale Tachograf – Neue Vorgaben durch EU-Verordnung ab 3/2016“\, Martin Kandzior – Senior Consultant & Trainer\, Kienzle Automotive GmbH. Mülheim a.d.R.\n10:15 Uhr „Neues Punktesystem und die Auswirkung auf den Fuhrpark“\, Norbert Heining – Ausbilder für Fahrlehrer und Inhaber der Fahrschule Grützner\, Oberhausen\n10:45 Uhr „Vergölst – TruckTireManagement – Kosteneinsparungen in der Entsorgungslogistik mit Fleet Fox“\, Ralf Schulze -Key Account Manager Vergölst GmbH\, Schalksmühle\n11:15 Uhr Kaffeepause\n11:30 Uhr „Ladungssicherung im Spannungsfeld zwischen Theorie und Praxis“\, André Bubenzer\, Akademieleiter F&T LaSiSe gGmbH\, Selm\n12:00 Uhr „Verunsicherung bei den Verantwortlichkeiten zur Ladungssicherung“\, Harald Meyer-Hess – Bereich Kraftverkehr Bildungszentrum Datteln\, TÜV NORD Bildung GmbH & Co. KG\n12:30 Uhr „ADR 2017: Wesentliche Änderungen für die Entsorgungs-Logistik“\, Bernhard Jäger – Geschäftsführer Gefahrgutjäger GmbH\, Bochum\n13:00 Uhr Mittagspause und Besuch der Fachausstellung\n13:45 Uhr Vorführungen + Selbstversuche\nGanztägig Fachausstellung mit den Ausstellern
URL:https://www.recyclingmagazin.de/event/2-tag-der-entsorgungs-logistik/
LOCATION:TÜV NORD Bildung\, Castroper Str. 241\, Datteln\, 45711
CATEGORIES:Seminar
ORGANIZER;CN="WFZruhr":MAILTO:info@WFZ-ruhr.de
END:VEVENT
END:VCALENDAR