BEGIN:VCALENDAR
VERSION:2.0
PRODID:-//RECYCLING magazin - ECPv6.15.20//NONSGML v1.0//EN
CALSCALE:GREGORIAN
METHOD:PUBLISH
X-WR-CALNAME:RECYCLING magazin
X-ORIGINAL-URL:https://www.recyclingmagazin.de
X-WR-CALDESC:Veranstaltungen für RECYCLING magazin
REFRESH-INTERVAL;VALUE=DURATION:PT1H
X-Robots-Tag:noindex
X-PUBLISHED-TTL:PT1H
BEGIN:VTIMEZONE
TZID:Europe/Berlin
BEGIN:DAYLIGHT
TZOFFSETFROM:+0100
TZOFFSETTO:+0200
TZNAME:CEST
DTSTART:20160327T010000
END:DAYLIGHT
BEGIN:STANDARD
TZOFFSETFROM:+0200
TZOFFSETTO:+0100
TZNAME:CET
DTSTART:20161030T010000
END:STANDARD
BEGIN:DAYLIGHT
TZOFFSETFROM:+0100
TZOFFSETTO:+0200
TZNAME:CEST
DTSTART:20170326T010000
END:DAYLIGHT
BEGIN:STANDARD
TZOFFSETFROM:+0200
TZOFFSETTO:+0100
TZNAME:CET
DTSTART:20171029T010000
END:STANDARD
BEGIN:DAYLIGHT
TZOFFSETFROM:+0100
TZOFFSETTO:+0200
TZNAME:CEST
DTSTART:20180325T010000
END:DAYLIGHT
BEGIN:STANDARD
TZOFFSETFROM:+0200
TZOFFSETTO:+0100
TZNAME:CET
DTSTART:20181028T010000
END:STANDARD
END:VTIMEZONE
BEGIN:VEVENT
DTSTART;VALUE=DATE:20170426
DTEND;VALUE=DATE:20170429
DTSTAMP:20260420T092011
CREATED:20160510T094411Z
LAST-MODIFIED:20170407T135109Z
UID:350309-1493164800-1493423999@www.recyclingmagazin.de
SUMMARY:2. Internationales Recycling-Forum
DESCRIPTION:Die zweite Auflage des 2015 erstmals durchgeführten Internationalen Recycling-Forums zum Thema „Agricultural Plastics – Potential for Recycling” findet vom 26. bis 28. April 2017 im Hotel Dorint Pallas Wiesbaden statt. Veranstalter ist wieder die RIGK GmbH in Kooperation mit der European Association of Plastics Recycling & Recovery Organisations (epro). Wieder liegt der Fokus auf dem Recycling von Agrarkunststoffen. Des Weiteren werden aktuelle politische Themen des Kunststoffrecyclings im Allgemeinen behandelt. Eine begleitende Ausstellung bietet weiterführende Informationen aus der Branche. Die Teilnahme kostet 646 € inklusive bzw. 576 € ohne Abendveranstaltung\, jeweils inklusive 19% MwSt. Anmeldungen können online unter http://www.rigk.de/forum/anmeldung/anmeldeformular.html erfolgen. Ansprechpartner sind Mareike Di Leo (dileo@rigk.de\, +49 611 308600-10) und Gloria Diaz (diaz@rigk.de\, +49 611 308600-19). Die Tagungssprache ist Englisch.
URL:https://www.recyclingmagazin.de/event/2-internationales-recyclingforum/
LOCATION:Dorint Hotel Pallas Wiesbaden\, Auguste-Viktoria-Straße 15\, Wiesbaden\, 65185 \, Deutschland
CATEGORIES:Konferenz
END:VEVENT
END:VCALENDAR