BEGIN:VCALENDAR
VERSION:2.0
PRODID:-//RECYCLING magazin - ECPv6.15.20//NONSGML v1.0//EN
CALSCALE:GREGORIAN
METHOD:PUBLISH
X-WR-CALNAME:RECYCLING magazin
X-ORIGINAL-URL:https://www.recyclingmagazin.de
X-WR-CALDESC:Veranstaltungen für RECYCLING magazin
REFRESH-INTERVAL;VALUE=DURATION:PT1H
X-Robots-Tag:noindex
X-PUBLISHED-TTL:PT1H
BEGIN:VTIMEZONE
TZID:Europe/Berlin
BEGIN:DAYLIGHT
TZOFFSETFROM:+0100
TZOFFSETTO:+0200
TZNAME:CEST
DTSTART:20170326T010000
END:DAYLIGHT
BEGIN:STANDARD
TZOFFSETFROM:+0200
TZOFFSETTO:+0100
TZNAME:CET
DTSTART:20171029T010000
END:STANDARD
BEGIN:DAYLIGHT
TZOFFSETFROM:+0100
TZOFFSETTO:+0200
TZNAME:CEST
DTSTART:20180325T010000
END:DAYLIGHT
BEGIN:STANDARD
TZOFFSETFROM:+0200
TZOFFSETTO:+0100
TZNAME:CET
DTSTART:20181028T010000
END:STANDARD
BEGIN:DAYLIGHT
TZOFFSETFROM:+0100
TZOFFSETTO:+0200
TZNAME:CEST
DTSTART:20190331T010000
END:DAYLIGHT
BEGIN:STANDARD
TZOFFSETFROM:+0200
TZOFFSETTO:+0100
TZNAME:CET
DTSTART:20191027T010000
END:STANDARD
END:VTIMEZONE
BEGIN:VEVENT
DTSTART;VALUE=DATE:20181114
DTEND;VALUE=DATE:20181116
DTSTAMP:20260424T202329
CREATED:20180914T155847Z
LAST-MODIFIED:20180914T155908Z
UID:365793-1542153600-1542326399@www.recyclingmagazin.de
SUMMARY:14. Bayerische Wassertage
DESCRIPTION:Im Rahmen der diesjährigen Wassertage werden Folgende Themen behandelt: \n\nAktuelle Entwicklungen im Wasserrecht\nAbwasserabgabengesetz\nBetrieb von Verdunstungskühlanlagen\, Kühltürmen und Nassabscheidern – 42. BImSchV\nWasserbehandlung und -aufbereitung\, technische Ausführung von Maßnahmen bei Überschreitung der Prüfwerte\nErfahrungen mit der Umsetzung der Anforderungen aus der AwSV\nWasserwirtschaft 4.0 – Intelligente Verknüpfung von Daten für die Zukunft der Wasserbewirtschaftung\nMikroplastik in Gewässern: Relevanz\, Ursachen\, Entwicklungen\, Konsequenzen und Lösungsansätze
URL:https://www.recyclingmagazin.de/event/14-bayerische-wassertage/
LOCATION:Bayerisches Landesamt für Umwelt (LfU)\, Bürgermeister-Ulrich-Straße 160\, Augsburg\, 86179
CATEGORIES:Kongress
ORGANIZER;CN="KUMAS Kompetenzzentrum Umwelt":MAILTO:info@kumas.de
END:VEVENT
END:VCALENDAR